BEGIN:VCALENDAR
VERSION:2.0
PRODID:-//菊池観光協会 - ECPv6.11.2//NONSGML v1.0//EN
CALSCALE:GREGORIAN
METHOD:PUBLISH
X-WR-CALNAME:菊池観光協会
X-ORIGINAL-URL:https://kikuchikanko.ne.jp
X-WR-CALDESC:菊池観光協会 のイベント
REFRESH-INTERVAL;VALUE=DURATION:PT1H
X-Robots-Tag:noindex
X-PUBLISHED-TTL:PT1H
BEGIN:VTIMEZONE
TZID:Asia/Tokyo
BEGIN:STANDARD
TZOFFSETFROM:+0900
TZOFFSETTO:+0900
TZNAME:JST
DTSTART:20260101T000000
END:STANDARD
END:VTIMEZONE
BEGIN:VEVENT
DTSTART;TZID=Asia/Tokyo:20260418T090000
DTEND;TZID=Asia/Tokyo:20260419T180000
DTSTAMP:20260420T183123
CREATED:20260416T045437Z
LAST-MODIFIED:20260416T045437Z
UID:23813-1776502800-1776621600@kikuchikanko.ne.jp
SUMMARY:創業33周年「春の感謝祭」
DESCRIPTION:春の感謝祭が4月18日（土）19日（日）の二日間開催されます。\nこの機会にぜひ旭志道の駅へお出かけください。\n\n \nサーロインステーキは150ｇ2\,100円が、1\,400円（1日５０枚限定）\nリブロースステーキは100ｇ1\,200円が、880円\nなどお買い得商品が満載です。\n\n4/18（土）限定で先着100名様へ玄氣堂さんのミニメロンパンのプレゼントも！\nまたお楽しみガラポン抽選会も開催されます。\n期間中お買い上げ2\,000円ごとに1回チャレンジできます。\n電化製品や旭志牛サーロインなどが当たるチャンスです。\nお買物後は、レシートを握りしめてぜひガラポン抽選会にご参加ください。\n\n●4/18（土）13：00～13：30　ころう君がやってくる\n●4/19（日）ミュージックイベント（食彩館前広場）\n　　　　　　9：30～15：00カスタムカーが大集合\n\n詳しくは旭志道の駅HPよりご確認ください。\n旭志道の駅　初の感謝祭
URL:https://kikuchikanko.ne.jp/event/%e5%89%b5%e6%a5%ad33%e5%91%a8%e5%b9%b4%e3%80%8c%e6%98%a5%e3%81%ae%e6%84%9f%e8%ac%9d%e7%a5%ad%e3%80%8d
LOCATION:旭志村ふれあいセンター道の駅旭志\, 旭志川辺1886番地\, 菊池市\, 熊本県\, 869-1205
END:VEVENT
BEGIN:VEVENT
DTSTART;TZID=Asia/Tokyo:20260418T100000
DTEND;TZID=Asia/Tokyo:20260418T160000
DTSTAMP:20260420T183123
CREATED:20260408T014358Z
LAST-MODIFIED:20260408T014358Z
UID:23685-1776506400-1776528000@kikuchikanko.ne.jp
SUMMARY:ひとしずく朝市
DESCRIPTION:  \n毎月8のつく日に開催される「ひとしずく朝市」が今月28日も開催されます。ひとしずく朝市は、ゴミを出さない朝市を目指されています。 \n日常のお買い物をご自身のお気に入りのバッグや食器で楽しいんでいただいくことがあたりまえの世界になればという想いがたくさん詰まった朝市です。\nお買い物の際にはマイバッグ\nおいしい食べものにはマイカップ、マイ皿、マイ箸\nお持ち帰りにはマイタッパー\nなど、マイ〇〇を持って楽しまれてください。 \n◇会場◇ 菊池市ふるさと創生市民広場\n◇お問合せ･詳細◇ ひとしずく朝市 Instagramより
URL:https://kikuchikanko.ne.jp/event/%e3%81%b2%e3%81%a8%e3%81%97%e3%81%9a%e3%81%8f%e6%9c%9d%e5%b8%82-18
LOCATION:菊池市ふるさと創生市民広場
END:VEVENT
END:VCALENDAR