BEGIN:VCALENDAR
VERSION:2.0
PRODID:-//菊池観光協会 - ECPv6.11.2//NONSGML v1.0//EN
CALSCALE:GREGORIAN
METHOD:PUBLISH
X-WR-CALNAME:菊池観光協会
X-ORIGINAL-URL:https://kikuchikanko.ne.jp
X-WR-CALDESC:菊池観光協会 のイベント
REFRESH-INTERVAL;VALUE=DURATION:PT1H
X-Robots-Tag:noindex
X-PUBLISHED-TTL:PT1H
BEGIN:VTIMEZONE
TZID:Asia/Tokyo
BEGIN:STANDARD
TZOFFSETFROM:+0900
TZOFFSETTO:+0900
TZNAME:JST
DTSTART:20260101T000000
END:STANDARD
END:VTIMEZONE
BEGIN:VEVENT
DTSTART;TZID=Asia/Tokyo:20260414T090000
DTEND;TZID=Asia/Tokyo:20260414T160000
DTSTAMP:20260420T183133
CREATED:20260412T084339Z
LAST-MODIFIED:20260412T084339Z
UID:23802-1776157200-1776182400@kikuchikanko.ne.jp
SUMMARY:熊本デフォルト愛好会写真展「対話」お写ん歩
DESCRIPTION:
URL:https://kikuchikanko.ne.jp/event/%e7%86%8a%e6%9c%ac%e3%83%87%e3%83%95%e3%82%a9%e3%83%ab%e3%83%88%e6%84%9b%e5%a5%bd%e4%bc%9a%e5%86%99%e7%9c%9f%e5%b1%95%e3%80%8c%e5%af%be%e8%a9%b1%e3%80%8d%e3%81%8a%e5%86%99%e3%82%93%e6%ad%a9
LOCATION:カフェギャラリーチムチム\, 熊本県菊池市隈府1298
END:VEVENT
END:VCALENDAR