BEGIN:VCALENDAR
VERSION:2.0
PRODID:-//菊池観光協会 - ECPv6.11.2//NONSGML v1.0//EN
CALSCALE:GREGORIAN
METHOD:PUBLISH
X-ORIGINAL-URL:https://kikuchikanko.ne.jp
X-WR-CALDESC:菊池観光協会 のイベント
REFRESH-INTERVAL;VALUE=DURATION:PT1H
X-Robots-Tag:noindex
X-PUBLISHED-TTL:PT1H
BEGIN:VTIMEZONE
TZID:Asia/Tokyo
BEGIN:STANDARD
TZOFFSETFROM:+0900
TZOFFSETTO:+0900
TZNAME:JST
DTSTART:20260101T000000
END:STANDARD
END:VTIMEZONE
BEGIN:VEVENT
DTSTART;TZID=Asia/Tokyo:20260404T090000
DTEND;TZID=Asia/Tokyo:20260405T170000
DTSTAMP:20260425T005704
CREATED:20260402T081719Z
LAST-MODIFIED:20260402T081719Z
UID:23627-1775293200-1775408400@kikuchikanko.ne.jp
SUMMARY:お花とお菓子のマルシェ
DESCRIPTION:お花とお菓子のマルシェが開催されます。 \n長く楽しめる花苗やここにしかないハーブ苗・宿根草、手作り腐葉土、お家で収穫できるイチゴ苗に加え、お花見にぴったりな焼き菓子たちも並びます。
URL:https://kikuchikanko.ne.jp/event/%e3%81%8a%e8%8a%b1%e3%81%a8%e3%81%8a%e8%8f%93%e5%ad%90%e3%81%ae%e3%83%9e%e3%83%ab%e3%82%b7%e3%82%a7
LOCATION:菊池市ふるさと創生市民広場
END:VEVENT
END:VCALENDAR