BEGIN:VCALENDAR
VERSION:2.0
PRODID:-//菊池観光協会 - ECPv6.11.2//NONSGML v1.0//EN
CALSCALE:GREGORIAN
METHOD:PUBLISH
X-ORIGINAL-URL:https://kikuchikanko.ne.jp
X-WR-CALDESC:菊池観光協会 のイベント
REFRESH-INTERVAL;VALUE=DURATION:PT1H
X-Robots-Tag:noindex
X-PUBLISHED-TTL:PT1H
BEGIN:VTIMEZONE
TZID:Asia/Tokyo
BEGIN:STANDARD
TZOFFSETFROM:+0900
TZOFFSETTO:+0900
TZNAME:JST
DTSTART:20250101T000000
END:STANDARD
END:VTIMEZONE
BEGIN:VEVENT
DTSTART;TZID=Asia/Tokyo:20250711T100000
DTEND;TZID=Asia/Tokyo:20250713T170000
DTSTAMP:20260420T183218
CREATED:20250621T023648Z
LAST-MODIFIED:20250621T023648Z
UID:21091-1752228000-1752426000@kikuchikanko.ne.jp
SUMMARY:美食EXPOin熊本（七城メロンドーム）
DESCRIPTION:7月11･12･13日に道の駅七城メロンドームにて「美食EXPOin熊本（七城メロンドーム）」が開催されます。 \n人気芸人のはまやねんさんの1日700個売れる大人気カレーパンの販売を始めとする様々な飲食店が出店されます。\n全国の美味しいグルメが大集結です。\nぜひご来場ください。 \n詳しくはこちら \n【日時】2025年7月11~13日（金･土･日）10時~17時※悪天候の場合は中止有\n【会場】道の駅七城メロンドーム\n住　所：　　熊本県菊池市七城町岡田306\nＴＥＬ：　　0968-25-5757\n営業時間：　9:00～18:00\n駐車場：　　普通車 263台／バス・大型車 3台（最大7台）／身障者用 2台（電気自動車（EV）急速充電スタンド ２基） \n 
URL:https://kikuchikanko.ne.jp/event/%e7%be%8e%e9%a3%9fexpoin%e7%86%8a%e6%9c%ac%ef%bc%88%e4%b8%83%e5%9f%8e%e3%83%a1%e3%83%ad%e3%83%b3%e3%83%89%e3%83%bc%e3%83%a0%ef%bc%89
LOCATION:メロンドーム
END:VEVENT
BEGIN:VEVENT
DTSTART;TZID=Asia/Tokyo:20250712T090000
DTEND;TZID=Asia/Tokyo:20250714T180000
DTSTAMP:20260420T183218
CREATED:20250710T074818Z
LAST-MODIFIED:20250710T074838Z
UID:21290-1752310800-1752516000@kikuchikanko.ne.jp
SUMMARY:旭志村ふれあいセンター道の駅旭志 夏の感謝祭
DESCRIPTION:旭志村ふれあいセンター道の駅旭志で、「夏の感謝祭」が行われます！ \nイベント内容\n・お肉セール\n・肉ガチャ\n・ほたるカードポイント5倍 \nなど、お得なイベントになっておりますのでぜひご来場ください！ \n【日時】2025年7月12日(土)~14日(月)\n・物産館…9:00~18:00\n・食彩館…11:00~21:00\n【住所】〒869-1205 熊本県菊池市旭志川辺1886\n【TEL】0968-37-3719
URL:https://kikuchikanko.ne.jp/event/%e6%97%ad%e5%bf%97%e6%9d%91%e3%81%b5%e3%82%8c%e3%81%82%e3%81%84%e3%82%bb%e3%83%b3%e3%82%bf%e3%83%bc%e9%81%93%e3%81%ae%e9%a7%85%e6%97%ad%e5%bf%97-%e5%a4%8f%e3%81%ae%e6%84%9f%e8%ac%9d%e7%a5%ad
LOCATION:熊本県
END:VEVENT
BEGIN:VEVENT
DTSTART;TZID=Asia/Tokyo:20250712T170000
DTEND;TZID=Asia/Tokyo:20250712T220000
DTSTAMP:20260420T183218
CREATED:20250710T015250Z
LAST-MODIFIED:20250710T015250Z
UID:21286-1752339600-1752357600@kikuchikanko.ne.jp
SUMMARY:NIGHT MARKET
DESCRIPTION:菊池市の古着とコーヒースタンドの店BROOKS Vintage & Roasterの駐車場で開催するナイトマーケット。\n洋服、雑貨、美味しいものなど毎週変わる、素敵なお店に集まっていただきます！\nぜひお気に入りを探しに来てください！ \n【日時】2025年7月12日(土)17:00~22:00\n【場所】＠BROOKS Vintage & Roaster\n菊池市亘44-3ルミエール壱番館101 \n‐縁日‐\nボードゲーム喫茶しんきんぐ（射的、ボードゲーム） \n‐FOOD.DRINK-\nホルモン道場（唐揚げ、フライドポテト）\n家族食堂（たこ焼き）\nBROOKS Vintage & Roaster（アルコール、コーヒー）
URL:https://kikuchikanko.ne.jp/event/night-market
LOCATION:熊本県
END:VEVENT
END:VCALENDAR