BEGIN:VCALENDAR
VERSION:2.0
PRODID:-//菊池観光協会 - ECPv6.11.2//NONSGML v1.0//EN
CALSCALE:GREGORIAN
METHOD:PUBLISH
X-WR-CALNAME:菊池観光協会
X-ORIGINAL-URL:https://kikuchikanko.ne.jp
X-WR-CALDESC:菊池観光協会 のイベント
REFRESH-INTERVAL;VALUE=DURATION:PT1H
X-Robots-Tag:noindex
X-PUBLISHED-TTL:PT1H
BEGIN:VTIMEZONE
TZID:Asia/Tokyo
BEGIN:STANDARD
TZOFFSETFROM:+0900
TZOFFSETTO:+0900
TZNAME:JST
DTSTART:20260101T000000
END:STANDARD
END:VTIMEZONE
BEGIN:VEVENT
DTSTART;TZID=Asia/Tokyo:20260425T110000
DTEND;TZID=Asia/Tokyo:20260425T190000
DTSTAMP:20260424T224754
CREATED:20260411T081953Z
LAST-MODIFIED:20260411T081953Z
UID:23784-1777114800-1777143600@kikuchikanko.ne.jp
SUMMARY:Let't 表現　トキメキフェス　これでいいのだ選手権　2nd
DESCRIPTION:あーなんだ野草学校にて、4月25日（土）に「トキメキフェス　ここでいいのだ選手権　 2nd」が開催されます。 \nチャレンジをはじめ、マルシェ出店、野草のおはなし、スペシャルライブなど、様々なイベントが予定されており、自然豊かな会場で、食や音楽、人との交流などを楽しめるフェスです。 \n詳細は公式アカウントをご確認ください。 \n  \n 
URL:https://kikuchikanko.ne.jp/event/lett-%e8%a1%a8%e7%8f%be%e3%80%80%e3%83%88%e3%82%ad%e3%83%a1%e3%82%ad%e3%83%95%e3%82%a7%e3%82%b9%e3%80%80%e3%81%93%e3%82%8c%e3%81%a7%e3%81%84%e3%81%84%e3%81%ae%e3%81%a0%e9%81%b8%e6%89%8b%e6%a8%a9
LOCATION:あーなんだ野草学校\, 熊本県\, 菊池市旭志伊萩308-1\, 69-1208\, Japan
END:VEVENT
BEGIN:VEVENT
DTSTART;TZID=Asia/Tokyo:20260426T090000
DTEND;TZID=Asia/Tokyo:20260426T143000
DTSTAMP:20260424T224754
CREATED:20260401T071521Z
LAST-MODIFIED:20260401T071521Z
UID:23582-1777194000-1777213800@kikuchikanko.ne.jp
SUMMARY:菊池朝市　むすびマーケット
DESCRIPTION:菊池朝市 むすびマーケット がますな屋酒店にて開催されます。 \n農家さんの採れたて野菜や発酵食品、自然派スイーツ、出店者さんのこだわり農産加工品などが並ぶ、月いち朝市です。\nお買い物はもちろん、映画上映、ライブキッチン、お話会も楽しめるイベントとなっています。 \n  \n 
URL:https://kikuchikanko.ne.jp/event/%e8%8f%8a%e6%b1%a0%e6%9c%9d%e5%b8%82%e3%80%80%e3%82%80%e3%81%99%e3%81%b3%e3%83%9e%e3%83%bc%e3%82%b1%e3%83%83%e3%83%88
LOCATION:ますな屋酒店\, 熊本県菊池市木庭1553-3\, 菊池市木庭\, 熊本県\, 861-1301\, Japan
END:VEVENT
BEGIN:VEVENT
DTSTART;TZID=Asia/Tokyo:20260426T133000
DTEND;TZID=Asia/Tokyo:20260426T153000
DTSTAMP:20260424T224754
CREATED:20260408T072906Z
LAST-MODIFIED:20260408T072906Z
UID:23749-1777210200-1777217400@kikuchikanko.ne.jp
SUMMARY:親子参加型イベント「プレイキッズinコッコファーム」
DESCRIPTION:プレイキッズ～投げるチャレンジパーク編～　がコッコファームにて開催されます。 \n今回は 「投げる」動作 をテーマに、\n親子で気軽に参加できるレクリエーションと専門的な視点を取り入れた少人数制の対談型ミニ運動講座が行われます。 \n事前予約にて先着でお菓子の詰め合わせが受け取れます。 \n詳しくはホームページをご覧ください。 \n 
URL:https://kikuchikanko.ne.jp/event/%e8%a6%aa%e5%ad%90%e5%8f%82%e5%8a%a0%e5%9e%8b%e3%82%a4%e3%83%99%e3%83%b3%e3%83%88%e3%80%8c%e3%83%97%e3%83%ac%e3%82%a4%e3%82%ad%e3%83%83%e3%82%bain%e3%82%b3%e3%83%83%e3%82%b3%e3%83%95%e3%82%a1%e3%83%bc
LOCATION:コッコファーム\, 1077\, 菊池市森北
END:VEVENT
BEGIN:VEVENT
DTSTART;TZID=Asia/Tokyo:20260428T100000
DTEND;TZID=Asia/Tokyo:20260428T140000
DTSTAMP:20260424T224754
CREATED:20260408T033602Z
LAST-MODIFIED:20260408T033602Z
UID:23696-1777370400-1777384800@kikuchikanko.ne.jp
SUMMARY:ひとしずく朝市
DESCRIPTION:毎月8のつく日に開催される「ひとしずく朝市」が今月28日も開催されます。\nひとしずく朝市は、ゴミを出さない朝市を目指されています。 \n日常のお買い物をご自身のお気に入りのバッグや食器で楽しいんでいただいくことがあたりまえの世界になればという想いがたくさん詰まった朝市です。\nお買い物の際にはマイバッグ\nおいしい食べものにはマイカップ、マイ皿、マイ箸\nお持ち帰りにはマイタッパー\nなど、マイ〇〇を持って楽しまれてください。 \n◇会場◇ 菊池市ふるさと創生市民広場\n◇お問合せ･詳細◇ ひとしずく朝市 Instagramより
URL:https://kikuchikanko.ne.jp/event/%e3%81%b2%e3%81%a8%e3%81%97%e3%81%9a%e3%81%8f%e6%9c%9d%e5%b8%82-19
LOCATION:菊池市ふるさと創生市民広場
END:VEVENT
END:VCALENDAR