BEGIN:VCALENDAR
VERSION:2.0
PRODID:-//菊池観光協会 - ECPv6.11.2//NONSGML v1.0//EN
CALSCALE:GREGORIAN
METHOD:PUBLISH
X-WR-CALNAME:菊池観光協会
X-ORIGINAL-URL:https://kikuchikanko.ne.jp
X-WR-CALDESC:菊池観光協会 のイベント
REFRESH-INTERVAL;VALUE=DURATION:PT1H
X-Robots-Tag:noindex
X-PUBLISHED-TTL:PT1H
BEGIN:VTIMEZONE
TZID:Asia/Tokyo
BEGIN:STANDARD
TZOFFSETFROM:+0900
TZOFFSETTO:+0900
TZNAME:JST
DTSTART:20250101T000000
END:STANDARD
END:VTIMEZONE
BEGIN:VEVENT
DTSTART;TZID=Asia/Tokyo:20251213T090000
DTEND;TZID=Asia/Tokyo:20251214T170000
DTSTAMP:20260424T185310
CREATED:20251205T012251Z
LAST-MODIFIED:20251205T012251Z
UID:22487-1765616400-1765731600@kikuchikanko.ne.jp
SUMMARY:田舎の花屋 木もれび  お菓子屋 pique-nique～クリスマスマーケット2025～
DESCRIPTION:お花屋の「木もれび」さんのお庭でクリスマスマーケットが開催されます。\nお花とお菓子が揃った２日間をぜひお楽しみください。 \n場所：菊池市雪野1806\n菊池市内より竜門ダム方面へ車で１０分（竜門郵便局近く）
URL:https://kikuchikanko.ne.jp/event/%e7%94%b0%e8%88%8e%e3%81%ae%e8%8a%b1%e5%b1%8b-%e6%9c%a8%e3%82%82%e3%82%8c%e3%81%b3-%e3%81%8a%e8%8f%93%e5%ad%90%e5%b1%8b-pique-nique%ef%bd%9e%e3%82%af%e3%83%aa%e3%82%b9%e3%83%9e%e3%82%b9%e3%83%9e
LOCATION:木もれび\, 菊池市雪野1806
END:VEVENT
BEGIN:VEVENT
DTSTART;TZID=Asia/Tokyo:20251214T090000
DTEND;TZID=Asia/Tokyo:20251214T150000
DTSTAMP:20260424T185310
CREATED:20251206T015803Z
LAST-MODIFIED:20251206T015803Z
UID:22523-1765702800-1765724400@kikuchikanko.ne.jp
SUMMARY:第32回世界の街歩き展（ルーマニア・ブルガリア）
DESCRIPTION:＊最終日＊ \n12月5日(金)～14日(日)本市では2回目の写真展です。各国の珍しい写真がわいふ一番館にて展示されています。 \nhttps://www.city.kikuchi.lg.jp/article/view/1244/14766.html
URL:https://kikuchikanko.ne.jp/event/%e7%ac%ac32%e5%9b%9e%e4%b8%96%e7%95%8c%e3%81%ae%e8%a1%97%e6%ad%a9%e3%81%8d%e5%b1%95%ef%bc%88%e3%83%ab%e3%83%bc%e3%83%9e%e3%83%8b%e3%82%a2%e3%83%bb%e3%83%96%e3%83%ab%e3%82%ac%e3%83%aa%e3%82%a2-2
LOCATION:わいふ一番館\, 熊本県菊池市隈府１\, 0968-24-6630
END:VEVENT
BEGIN:VEVENT
DTSTART;TZID=Asia/Tokyo:20251214T100000
DTEND;TZID=Asia/Tokyo:20251214T150000
DTSTAMP:20260424T185310
CREATED:20251201T061520Z
LAST-MODIFIED:20251201T061520Z
UID:22446-1765706400-1765724400@kikuchikanko.ne.jp
SUMMARY:年末 蚤の市マルシェ
DESCRIPTION:菊池市泗水町にあるLATO BASE（ラトベイス）で「年末 蚤の市マルシェ」が開催されます。 \n飲食・ケータリングカー、デザート系に雑貨など様々な店舗が出店します。\nまたツリーモービルの色塗り体験も♪\nぜひLATO BASE開催の「蚤の市マルシェ」にお出かけください。 \n \n日時：2025年12月14日　10:00〜15:00\n入場料：大人100円（高校生以下は無料）\n開催場所：LATO BASE（ラトベイス）\n住所：熊本県菊池市泗水町吉富2714-3（臨時駐車場）\ngoogleMAPで「LATO BASE」と検索すると正確な位置が分かります。
URL:https://kikuchikanko.ne.jp/event/%e5%b9%b4%e6%9c%ab-%e8%9a%a4%e3%81%ae%e5%b8%82%e3%83%9e%e3%83%ab%e3%82%b7%e3%82%a7
LOCATION:ＬＡＴＯ  ＢＡＳＥ\, 菊池市泗水町吉富2714-3
END:VEVENT
BEGIN:VEVENT
DTSTART;TZID=Asia/Tokyo:20251214T120000
DTEND;TZID=Asia/Tokyo:20251214T150000
DTSTAMP:20260424T185310
CREATED:20251204T020608Z
LAST-MODIFIED:20251204T050302Z
UID:22467-1765713600-1765724400@kikuchikanko.ne.jp
SUMMARY:血管年齢・AGEｓ測定会
DESCRIPTION:明治安田生命さん企画の「血管年齢・AGEｓ測定会」が菊池市ふるさと創生市民広場で開催されます。\n測定会は無料です。ぜひ皆さまお越しください。
URL:https://kikuchikanko.ne.jp/event/%e8%a1%80%e7%ae%a1%e5%b9%b4%e9%bd%a2%e3%83%bbage%ef%bd%93%e6%b8%ac%e5%ae%9a%e4%bc%9a
LOCATION:菊池市ふるさと創生市民広場
END:VEVENT
BEGIN:VEVENT
DTSTART;TZID=Asia/Tokyo:20251214T120000
DTEND;TZID=Asia/Tokyo:20251214T190000
DTSTAMP:20260424T185310
CREATED:20251205T013249Z
LAST-MODIFIED:20251205T013249Z
UID:22495-1765713600-1765738800@kikuchikanko.ne.jp
SUMMARY:菊池クリスマスマーケット
DESCRIPTION:KM企画のマルシェが菊池市ふるさと創生市民広場で開催されます。\nステージイベントは１４時～１９時まで。\n美味しい物だけではなくわんこブースも６店舗あります。\nぜひ市民広場にお越しください。
URL:https://kikuchikanko.ne.jp/event/%e8%8f%8a%e6%b1%a0%e3%82%af%e3%83%aa%e3%82%b9%e3%83%9e%e3%82%b9%e3%83%9e%e3%83%bc%e3%82%b1%e3%83%83%e3%83%88
LOCATION:菊池市ふるさと創生市民広場
END:VEVENT
BEGIN:VEVENT
DTSTART;TZID=Asia/Tokyo:20251218T100000
DTEND;TZID=Asia/Tokyo:20251218T140000
DTSTAMP:20260424T185310
CREATED:20250405T060024Z
LAST-MODIFIED:20251119T011533Z
UID:20532-1766052000-1766066400@kikuchikanko.ne.jp
SUMMARY:ひとしずく朝市
DESCRIPTION:毎月8のつく日に開催される「ひとしずく朝市」が今月28日も開催されます。\nひとしずく朝市は、ゴミを出さない朝市を目指されています。 \n日常のお買い物をご自身のお気に入りのバッグや食器で楽しいんでいただいくことがあたりまえの世界になればという想いがたくさん詰まった朝市です。\nお買い物の際にはマイバッグ\nおいしい食べものにはマイカップ、マイ皿、マイ箸\nお持ち帰りにはマイタッパー\nなど、マイ〇〇を持って楽しまれてください。 \n◇会場◇ 菊池市ふるさと創生市民広場\n◇お問合せ･詳細◇ ひとしずく朝市 Instagramより
URL:https://kikuchikanko.ne.jp/event/20532
LOCATION:菊池市ふるさと創生市民広場
END:VEVENT
BEGIN:VEVENT
DTSTART;TZID=Asia/Tokyo:20251221T080000
DTEND;TZID=Asia/Tokyo:20251221T140000
DTSTAMP:20260424T185310
CREATED:20251208T013531Z
LAST-MODIFIED:20251208T013721Z
UID:22540-1766304000-1766325600@kikuchikanko.ne.jp
SUMMARY:蔵原松三写真展（最終日）
DESCRIPTION:めぐる季節の中で出会った情景 \n開催場所：　チムチム２F \n開催期間：　2025年12月9日㈫∼12月21日㈰ \n時間　　：　9：00∼14：00 \n休館日　：　12月15日㈪ \n蔵原松三　TEL　090₋9484₋5268 \n 
URL:https://kikuchikanko.ne.jp/event/%e8%94%b5%e5%8e%9f%e6%9d%be%e4%b8%89%e5%86%99%e7%9c%9f%e5%b1%95%ef%bc%88%e6%9c%80%e7%b5%82%e6%97%a5%ef%bc%89
LOCATION:カフェギャラリーチムチム\, 熊本県菊池市隈府1298
END:VEVENT
BEGIN:VEVENT
DTSTART;TZID=Asia/Tokyo:20251221T120000
DTEND;TZID=Asia/Tokyo:20251221T190000
DTSTAMP:20260424T185310
CREATED:20251201T011258Z
LAST-MODIFIED:20251205T014153Z
UID:22436-1766318400-1766343600@kikuchikanko.ne.jp
SUMMARY:きくちクリスマスマーケットvol.5
DESCRIPTION:今年も県内外から人気のショップが勢揃いするきくちクリスマスマーケットvol.5が開催されます。\n雑貨やフードなどクリスマスにぴったりのショップが集結します。\n恒例になっている、子供達にお菓子や風船のプレゼントも♪ \n  \n \n日時2025年12月21日（日）\n時間 12:00～19:00\n会場 菊池市ふるさと創生市民広場\n主催：きくちクリスマスマーケット実行委員会
URL:https://kikuchikanko.ne.jp/event/k-christmas-market
LOCATION:菊池市ふるさと創生市民広場
END:VEVENT
BEGIN:VEVENT
DTSTART;TZID=Asia/Tokyo:20251227T080000
DTEND;TZID=Asia/Tokyo:20251227T170000
DTSTAMP:20260424T185310
CREATED:20251218T072619Z
LAST-MODIFIED:20251218T072619Z
UID:22612-1766822400-1766854800@kikuchikanko.ne.jp
SUMMARY:廣田かまぼこ店　軒先販売開始！
DESCRIPTION:廣田かまぼこ店にて、軒先販売を開始します。詳細は随時更新します。
URL:https://kikuchikanko.ne.jp/event/%e5%bb%a3%e7%94%b0%e3%81%8b%e3%81%be%e3%81%bc%e3%81%93%e5%ba%97%e3%80%80%e8%bb%92%e5%85%88%e8%b2%a9%e5%a3%b2%e9%96%8b%e5%a7%8b%ef%bc%81
LOCATION:(株)廣田かまぼこ店
END:VEVENT
BEGIN:VEVENT
DTSTART;TZID=Asia/Tokyo:20251228T100000
DTEND;TZID=Asia/Tokyo:20251228T120000
DTSTAMP:20260424T185310
CREATED:20251201T055543Z
LAST-MODIFIED:20251204T013917Z
UID:22443-1766916000-1766923200@kikuchikanko.ne.jp
SUMMARY:クリスマスイベント
DESCRIPTION:予防事業きらく あそび部の年内最後のイベントが菊池市ふるさと創生市民広場で開催されます。 \nおかし釣り、ダンボールキャタピラー、けいどろ、リズム体操などさまざまな体験ができます。\n最後にみんなでぜひ楽しみましょう♪ \n【参加費】500円/人　※事前予約制\nお申込：Instagram　＠kiraku.nakagawake
URL:https://kikuchikanko.ne.jp/event/%e3%82%af%e3%83%aa%e3%82%b9%e3%83%9e%e3%82%b9%e3%82%a4%e3%83%99%e3%83%b3%e3%83%88
LOCATION:菊池市ふるさと創生市民広場
END:VEVENT
BEGIN:VEVENT
DTSTART;TZID=Asia/Tokyo:20251228T100000
DTEND;TZID=Asia/Tokyo:20251228T150000
DTSTAMP:20260424T185310
CREATED:20250301T054857Z
LAST-MODIFIED:20251228T041028Z
UID:20183-1766916000-1766934000@kikuchikanko.ne.jp
SUMMARY:ひとしずく朝市
DESCRIPTION:毎月8のつく日に開催される「ひとしずく朝市」が今月28日も開催されます。\nひとしずく朝市は、ゴミを出さない朝市を目指されています。 \n日常のお買い物をご自身のお気に入りのバッグや食器で楽しいんでいただいくことがあたりまえの世界になればという想いがたくさん詰まった朝市です。\nお買い物の際にはマイバッグ\nおいしい食べものにはマイカップ、マイ皿、マイ箸\nお持ち帰りにはマイタッパー\nなど、マイ〇〇を持って楽しまれてください。
URL:https://kikuchikanko.ne.jp/event/%e3%81%b2%e3%81%a8%e3%81%97%e3%81%9a%e3%81%8f%e6%9c%9d%e5%b8%82-6
LOCATION:菊池市ふるさと創生市民広場
ATTACH;FMTTYPE=image/jpeg:https://kikuchikanko.ne.jp/wp-content/uploads/2024/12/372deb2fd96bffb74adfefa6ae1a9ba9.jpg
END:VEVENT
BEGIN:VEVENT
DTSTART;TZID=Asia/Tokyo:20251229T100000
DTEND;TZID=Asia/Tokyo:20251229T170000
DTSTAMP:20260424T185310
CREATED:20251218T041037Z
LAST-MODIFIED:20251218T042211Z
UID:22577-1767002400-1767027600@kikuchikanko.ne.jp
SUMMARY:通常営業（菊池観光協会）
DESCRIPTION:菊池観光協会HP　年末年始の営業より
URL:https://kikuchikanko.ne.jp/event/%e9%80%9a%e5%b8%b8%e5%96%b6%e6%a5%ad%ef%bc%88%e8%8f%8a%e6%b1%a0%e8%a6%b3%e5%85%89%e5%8d%94%e4%bc%9a%ef%bc%89
LOCATION:菊池観光協会
END:VEVENT
BEGIN:VEVENT
DTSTART;VALUE=DATE:20251230
DTEND;VALUE=DATE:20251231
DTSTAMP:20260424T185310
CREATED:20251218T041504Z
LAST-MODIFIED:20251218T041504Z
UID:22581-1767052800-1767139199@kikuchikanko.ne.jp
SUMMARY:休業日（菊池観光協会）
DESCRIPTION:
URL:https://kikuchikanko.ne.jp/event/%e4%bc%91%e6%a5%ad%e6%97%a5%ef%bc%88%e8%8f%8a%e6%b1%a0%e8%a6%b3%e5%85%89%e5%8d%94%e4%bc%9a%ef%bc%89
LOCATION:菊池観光協会
END:VEVENT
BEGIN:VEVENT
DTSTART;VALUE=DATE:20251231
DTEND;VALUE=DATE:20260101
DTSTAMP:20260424T185310
CREATED:20251218T042456Z
LAST-MODIFIED:20251218T042456Z
UID:22590-1767139200-1767225599@kikuchikanko.ne.jp
SUMMARY:短縮営業日（菊池観光協会）
DESCRIPTION:12月31日　10：00～14：00 \n菊池観光協会HP　年末年始の営業より
URL:https://kikuchikanko.ne.jp/event/%e7%9f%ad%e7%b8%ae%e5%96%b6%e6%a5%ad%e6%97%a5%ef%bc%88%e8%8f%8a%e6%b1%a0%e8%a6%b3%e5%85%89%e5%8d%94%e4%bc%9a%ef%bc%89
LOCATION:菊池観光協会
END:VEVENT
BEGIN:VEVENT
DTSTART;VALUE=DATE:20260101
DTEND;VALUE=DATE:20260102
DTSTAMP:20260424T185310
CREATED:20251218T042847Z
LAST-MODIFIED:20251218T042847Z
UID:22594-1767225600-1767311999@kikuchikanko.ne.jp
SUMMARY:短縮営業（菊池観光協会）
DESCRIPTION:短縮営業　1月1日　10：00～14：00 \n菊池観光協会HP　年末年始の営業より
URL:https://kikuchikanko.ne.jp/event/%e7%9f%ad%e7%b8%ae%e5%96%b6%e6%a5%ad%ef%bc%88%e8%8f%8a%e6%b1%a0%e8%a6%b3%e5%85%89%e5%8d%94%e4%bc%9a%ef%bc%89
LOCATION:菊池観光協会
END:VEVENT
BEGIN:VEVENT
DTSTART;VALUE=DATE:20260102
DTEND;VALUE=DATE:20260103
DTSTAMP:20260424T185310
CREATED:20251218T042705Z
LAST-MODIFIED:20251218T042705Z
UID:22592-1767312000-1767398399@kikuchikanko.ne.jp
SUMMARY:休業日（菊池観光協会）
DESCRIPTION:菊池観光協会HP　年末年始の営業より
URL:https://kikuchikanko.ne.jp/event/%e4%bc%91%e6%a5%ad%e6%97%a5%ef%bc%88%e8%8f%8a%e6%b1%a0%e8%a6%b3%e5%85%89%e5%8d%94%e4%bc%9a%ef%bc%89-2
LOCATION:菊池観光協会
END:VEVENT
BEGIN:VEVENT
DTSTART;VALUE=DATE:20260103
DTEND;VALUE=DATE:20260104
DTSTAMP:20260424T185310
CREATED:20251218T043149Z
LAST-MODIFIED:20251218T043149Z
UID:22596-1767398400-1767484799@kikuchikanko.ne.jp
SUMMARY:休業日（菊池観光協会）
DESCRIPTION:菊池観光協会HP　年末年始の営業より
URL:https://kikuchikanko.ne.jp/event/%e4%bc%91%e6%a5%ad%e6%97%a5%ef%bc%88%e8%8f%8a%e6%b1%a0%e8%a6%b3%e5%85%89%e5%8d%94%e4%bc%9a%ef%bc%89-3
LOCATION:菊池観光協会
END:VEVENT
BEGIN:VEVENT
DTSTART;TZID=Asia/Tokyo:20260104T073000
DTEND;TZID=Asia/Tokyo:20260104T090000
DTSTAMP:20260424T185310
CREATED:20251222T070336Z
LAST-MODIFIED:20251222T070336Z
UID:22643-1767511800-1767517200@kikuchikanko.ne.jp
SUMMARY:第12回 きくち・深川の朝ごはん会＆朝ヨガ体験会
DESCRIPTION:菊池一族発祥の地、菊池市深川で、静かな朝のひと時を楽しむ、恒例の朝活です。\n通算12回目の開催となる2026年最初の「きくち・深川の朝ごはん会」では、お正月休みで弛んだ身体を「朝ヨガ」ですっきり整え、新年のご挨拶とともに充実した一年をスタートできるような、お正月バージョンの朝ごはんと朝ヨガを楽しみたいと思います。\nご家族で、お友達を誘って、参加しませんか？\n新春のさわやかな空気の中で、一緒に身体を動かして、美味しい朝ごはんを食べましょう。 \nとき　2026年1月4日（日曜日） \n朝ヨガ体験会：7時30分～8時\n朝ごはん交流会：8時～9時 \nところ　菊之池跡（深川公民館そば）\n※雨天時は菊池みらいベースまたは深川公民館 \n参加費　300円（幼児と小中学生は無料です） \n持参品　箸、ご飯茶碗、汁椀、タオル \n※朝ヨガに参加ご希望の方は、\n運動しやすい軽装でご参加ください。 \n※ヨガマットをお持ちの方はご持参いただけると助かります。\nお申込み時にその旨お伝えください。 \n共催　一般社団法人タンカルム　@n.o.r.i.z.o.u /菊池みらいベース @kikuchimiraibase /予防事業きらく　　　@kiraku.nakagawake \n協賛　うぶとも @ubutomo_1103 /株式会社ヴィネット \n協力　深川区 \n後援　菊池市・菊池市教育委員会 \n申し込みフォーム\nみらいベースのプロフィール欄にあるリンクよりお願いいたします。\nhttps://forms.gle/9PxXERKpE1mn3st8A \nお問い合わせ　菊池みらいベース　☎0968-25-2501 / 080-8396-5523（村嶋） \n詳しくはInstagramまで
URL:https://kikuchikanko.ne.jp/event/%e7%ac%ac12%e5%9b%9e-%e3%81%8d%e3%81%8f%e3%81%a1%e3%83%bb%e6%b7%b1%e5%b7%9d%e3%81%ae%e6%9c%9d%e3%81%94%e3%81%af%e3%82%93%e4%bc%9a%ef%bc%86%e6%9c%9d%e3%83%a8%e3%82%ac%e4%bd%93%e9%a8%93%e4%bc%9a
LOCATION:菊之池跡（深川公民館そば）
END:VEVENT
BEGIN:VEVENT
DTSTART;TZID=Asia/Tokyo:20260108T100000
DTEND;TZID=Asia/Tokyo:20260108T140000
DTSTAMP:20260424T185310
CREATED:20251214T014206Z
LAST-MODIFIED:20251214T014206Z
UID:22560-1767866400-1767880800@kikuchikanko.ne.jp
SUMMARY:ひとしずく朝市
DESCRIPTION:毎月8のつく日に開催される「ひとしずく朝市」が今月28日も開催されます。\nひとしずく朝市は、ゴミを出さない朝市を目指されています。 \n日常のお買い物をご自身のお気に入りのバッグや食器で楽しいんでいただいくことがあたりまえの世界になればという想いがたくさん詰まった朝市です。\nお買い物の際にはマイバッグ\nおいしい食べものにはマイカップ、マイ皿、マイ箸\nお持ち帰りにはマイタッパー\nなど、マイ〇〇を持って楽しまれてください。 \n◇会場◇ 菊池市ふるさと創生市民広場\n◇お問合せ･詳細◇ ひとしずく朝市 Instagramより
URL:https://kikuchikanko.ne.jp/event/%e3%81%b2%e3%81%a8%e3%81%97%e3%81%9a%e3%81%8f%e6%9c%9d%e5%b8%82-12
END:VEVENT
BEGIN:VEVENT
DTSTART;TZID=Asia/Tokyo:20260110T103000
DTEND;TZID=Asia/Tokyo:20260110T113000
DTSTAMP:20260424T185310
CREATED:20251225T053236Z
LAST-MODIFIED:20251225T053335Z
UID:22657-1768041000-1768044600@kikuchikanko.ne.jp
SUMMARY:遊ぼう学ぼう児童センター
DESCRIPTION:一月の内容 \n１親子体操　２親子ふれあい遊び　３すくすくタイム \n午前10時半～11時半 \nところ　児童センター \n対象　１　2歳～就学前の児童　２未就学児 \n菊池市児童センター　電話番号 0968-24-3472
URL:https://kikuchikanko.ne.jp/event/%e9%81%8a%e3%81%bc%e3%81%86%e5%ad%a6%e3%81%bc%e3%81%86%e5%85%90%e7%ab%a5%e3%82%bb%e3%83%b3%e3%82%bf%e3%83%bc
LOCATION:菊池市児童センター
END:VEVENT
BEGIN:VEVENT
DTSTART;TZID=Asia/Tokyo:20260113T100000
DTEND;TZID=Asia/Tokyo:20260118T150000
DTSTAMP:20260424T185310
CREATED:20251225T021943Z
LAST-MODIFIED:20251225T021943Z
UID:22653-1768298400-1768748400@kikuchikanko.ne.jp
SUMMARY:手作り集団桔梗会　初春の彩展
DESCRIPTION:開催期間　2026年1月13日～1月18日 \n午前10時～午後3時まで（最終日は午後1時） \n菊池市隈府　カフェギャラリーチムチム２F \n問い合わせ　桔梗会　中原　090₋25077130
URL:https://kikuchikanko.ne.jp/event/%e6%89%8b%e4%bd%9c%e3%82%8a%e9%9b%86%e5%9b%a3%e6%a1%94%e6%a2%97%e4%bc%9a%e3%80%80%e5%88%9d%e6%98%a5%e3%81%ae%e5%bd%a9%e5%b1%95
LOCATION:カフェギャラリーチムチム\, 熊本県菊池市隈府1298
END:VEVENT
BEGIN:VEVENT
DTSTART;TZID=Asia/Tokyo:20260117T110000
DTEND;TZID=Asia/Tokyo:20260117T150000
DTSTAMP:20260424T185310
CREATED:20260105T033818Z
LAST-MODIFIED:20260105T033949Z
UID:22751-1768647600-1768662000@kikuchikanko.ne.jp
SUMMARY:『こども食堂 はーちゃん食堂』開催
DESCRIPTION:井上晴美さんが始めるみんなの食堂「はーちゃん食堂」が開催されます。 \n子育て支援を目的に「安心して過ごせる場所」「あたたかい食事」を提供し、温かな居場所を育てたいと初開催されます。\n参加費は無料で老若男女問わず誰でも参加できます。\nお気軽に市民広場にご集合しください。 \n  \nまた学生さんのボランティア大募集中（ボランティア証明書発行可）\n農家さんの規格外で出荷できない作物など提供していただける方\n八百屋さんお肉屋さんなど食材提供してくださる方も募集中です。 \n食べて、参加して！色んな形でご参加ください。 \n  \n【こども食堂　はーちゃん食堂】\n日時：2026年１月１７日（土）　１１時～１５時\n場所：菊池市ふるさと創生市民広場（菊池市隈府1273-1）\n参加費：無料\nお問合せ：Instagram　／　haaachanshokudo@gmail.com \n  \n 
URL:https://kikuchikanko.ne.jp/event/%e3%80%8e%e3%81%93%e3%81%a9%e3%82%82%e9%a3%9f%e5%a0%82-%e3%81%af%e3%83%bc%e3%81%a1%e3%82%83%e3%82%93%e9%a3%9f%e5%a0%82%e3%80%8f%e9%96%8b%e5%82%ac
LOCATION:菊池市ふるさと創生広場
END:VEVENT
BEGIN:VEVENT
DTSTART;TZID=Asia/Tokyo:20260118T073000
DTEND;TZID=Asia/Tokyo:20260118T120000
DTSTAMP:20260424T185310
CREATED:20251215T081803Z
LAST-MODIFIED:20251218T041800Z
UID:22549-1768721400-1768737600@kikuchikanko.ne.jp
SUMMARY:菊池市消防団出初式
DESCRIPTION:令和8年１月18日(日)に菊池ふるさと創生市民広場にて、菊池市消防団出初式を開催します！ \n消防団員による放水競技を行います！今年は綱引きも行います \nまた、\n☆ミニまといペーパークラフト\n☆消防体験\n☆マルシェ\nも同日開催いたします！\nプレゼント（先着順）もご用意しております \n沢山の皆様のご来場お待ちしております！ \n🅿️駐車場は、市民広場駐車場（参道側）、県北広域本部駐車場をご利用ください。 \n◇お問合せ･詳細◇ 菊池消防団Instagramより
URL:https://kikuchikanko.ne.jp/event/%e8%8f%8a%e6%b1%a0%e5%b8%82%e6%b6%88%e9%98%b2%e5%9b%a3%e5%87%ba%e5%88%9d%e5%bc%8f
END:VEVENT
BEGIN:VEVENT
DTSTART;TZID=Asia/Tokyo:20260118T100000
DTEND;TZID=Asia/Tokyo:20260118T140000
DTSTAMP:20260424T185310
CREATED:20251214T030904Z
LAST-MODIFIED:20251214T030904Z
UID:22562-1768730400-1768744800@kikuchikanko.ne.jp
SUMMARY:ひとしずく朝市
DESCRIPTION:毎月8のつく日に開催される「ひとしずく朝市」が今月28日も開催されます。\nひとしずく朝市は、ゴミを出さない朝市を目指されています。 \n日常のお買い物をご自身のお気に入りのバッグや食器で楽しいんでいただいくことがあたりまえの世界になればという想いがたくさん詰まった朝市です。\nお買い物の際にはマイバッグ\nおいしい食べものにはマイカップ、マイ皿、マイ箸\nお持ち帰りにはマイタッパー\nなど、マイ〇〇を持って楽しまれてください。 \n◇会場◇ 菊池市ふるさと創生市民広場\n◇お問合せ･詳細◇ ひとしずく朝市 Instagramより \n 
URL:https://kikuchikanko.ne.jp/event/%e3%81%b2%e3%81%a8%e3%81%97%e3%81%9a%e3%81%8f%e6%9c%9d%e5%b8%82-13
LOCATION:菊池市ふるさと創生市民広場
END:VEVENT
BEGIN:VEVENT
DTSTART;TZID=Asia/Tokyo:20260120T090000
DTEND;TZID=Asia/Tokyo:20260120T173000
DTSTAMP:20260424T185310
CREATED:20260111T055855Z
LAST-MODIFIED:20260111T055855Z
UID:22782-1768899600-1768930200@kikuchikanko.ne.jp
SUMMARY:コッコファーム（縁起物を味わう「大寒たまご」限定企画）
DESCRIPTION:コッコファームたまご庵　大寒にうまれた縁起物を味わう「大寒たまご」限定企画\n  \n2026年1月20日(火)の“大寒の日”に合わせ、大寒にうまれた縁起物「大寒たまご」を使用した限定企画が行われます。 \n大寒たまごは、古くから縁起物として親しまれ、風水では健康運や金運を招くといわれています。 \n当日は、レストランと物産館で大寒たまごを使ったメニューや商品が販売されます。 \n詳細はHPお役立ち情報にて \n 
URL:https://kikuchikanko.ne.jp/event/%e3%82%b3%e3%83%83%e3%82%b3%e3%83%95%e3%82%a1%e3%83%bc%e3%83%a0%ef%bc%88%e7%b8%81%e8%b5%b7%e7%89%a9%e3%82%92%e5%91%b3%e3%82%8f%e3%81%86%e3%80%8c%e5%a4%a7%e5%af%92%e3%81%9f%e3%81%be%e3%81%94%e3%80%8d
LOCATION:コッコファーム たまご庵
END:VEVENT
BEGIN:VEVENT
DTSTART;TZID=Asia/Tokyo:20260120T130000
DTEND;TZID=Asia/Tokyo:20260120T160000
DTSTAMP:20260424T185310
CREATED:20260117T025722Z
LAST-MODIFIED:20260117T025722Z
UID:22811-1768914000-1768924800@kikuchikanko.ne.jp
SUMMARY:シン・農泊推進塾
DESCRIPTION:“熊本県「農泊推進塾」が開催されます\n熊本県では、農業・農村の持つ地域資源を活かし、地域活性化と所得向上を目指す「農泊」を推進しています。 \nこの度、農泊の更なる活性化と魅力向上を図るため、「熊本県シン・農泊ネットワーク」会員の皆さま、農泊に関心のある方々、農泊を新規に始めたいとお考えの皆さま等を対象とした研修会を開催します。 \n令和7年度は、農家民宿施設での現地研修と座学研修を組み合わせ、農泊の新しいスタイルやインバウンドの受入れ、食によるおもてなし等、参加者同士が交流しながら、実践者の方々の事例等を学びます（全3回開催）。 \n農泊実践者の取組みを共有するとともに、関係者の交流と連携を促進し、農泊に取り組む方々の仲間づくりを目指しています。 \n令和8年1月20日の第2回目は「台湾からの旅行者と農泊～インバウンド対策～」をテーマに菊池市中央公民館（キクロス）で開催され、菊池市ふるさと体験協議会の皆さまから事例発表が行われます。 \n皆さまのご参加を心よりお待ちしております。 \n研修内容等について\n概要\n第1回　新しい農泊のカタチとは～連携拡大と新規参入～（場所：山都町） \n第2回　台湾からの旅行者と農泊～インバウンド対策～（場所：菊池市）キクロス\n第3回　食によるおもてなし（場所：人吉市）” \n詳しくはHPにて
URL:https://kikuchikanko.ne.jp/event/%e3%82%b7%e3%83%b3%e3%83%bb%e8%be%b2%e6%b3%8a%e6%8e%a8%e9%80%b2%e5%a1%be
LOCATION:菊池市生涯学習センター キクロス
END:VEVENT
BEGIN:VEVENT
DTSTART;TZID=Asia/Tokyo:20260124T103000
DTEND;TZID=Asia/Tokyo:20260124T113000
DTSTAMP:20260424T185310
CREATED:20251225T053823Z
LAST-MODIFIED:20251225T053823Z
UID:22661-1769250600-1769254200@kikuchikanko.ne.jp
SUMMARY:遊ぼう・学ぼう　児童センター
DESCRIPTION:〇親子体操 （要予約） \n　　と　き　１月１０日（土）　午前１０時３０分～１１時３０分 \n対象年齢　　2歳～就学前まで \n  \n〇親子ふれあい遊び \nと　き　１月２４日（土）　１０時３０分～（30分程度） \n内　容　風船やボールで遊ぼう \n  \n〇すくすくタイム \nと　き　１月２９日（木）10時３０分～（３０分程度） \n内　容　お誕生会＆豆まき遊び \n  \nところ\n　菊池市児童センター \n問い合わせ先\n菊池市児童センター　電話番号 0968-24-3472
URL:https://kikuchikanko.ne.jp/event/%e9%81%8a%e3%81%bc%e3%81%86%e3%83%bb%e5%ad%a6%e3%81%bc%e3%81%86%e3%80%80%e5%85%90%e7%ab%a5%e3%82%bb%e3%83%b3%e3%82%bf%e3%83%bc
LOCATION:菊池市児童センター
END:VEVENT
BEGIN:VEVENT
DTSTART;TZID=Asia/Tokyo:20260125T090000
DTEND;TZID=Asia/Tokyo:20260125T170000
DTSTAMP:20260424T185310
CREATED:20260117T032848Z
LAST-MODIFIED:20260117T032848Z
UID:22815-1769331600-1769360400@kikuchikanko.ne.jp
SUMMARY:菊池市所蔵絵画展－片瀬弘の世界－　最終日
DESCRIPTION:“菊池市隈府に生まれた片瀬弘(かたせひろし)は、台湾総督府国語学校師範部を卒業し、現地教育用の教科書編集業務にあたる傍ら、絵画の制作を行いました。1946年終戦に伴い帰国した後は菊池市迫間に居を構え、教科書出版に携わりつつ水彩画を描き続け、1960年に県外へ転居するまでの十数年間に故郷の風景を数多く描き残しています。\nカラー写真が普及する以前の菊池の山々や河川、集落や町並みなど、今では目にすることのないノスタルジックな風景を詳細に現在に伝える片瀬弘の作品は、今もなお見るものを魅了してやみません。\n今回は菊池市に所蔵されている42点の絵画の中から、16点を展示します。 ” \n詳しくはHPにて
URL:https://kikuchikanko.ne.jp/event/%e8%8f%8a%e6%b1%a0%e5%b8%82%e6%89%80%e8%94%b5%e7%b5%b5%e7%94%bb%e5%b1%95%ef%bc%8d%e7%89%87%e7%80%ac%e5%bc%98%e3%81%ae%e4%b8%96%e7%95%8c%ef%bc%8d%e3%80%80%e6%9c%80%e7%b5%82%e6%97%a5
LOCATION:菊池市わいふ一番館
END:VEVENT
BEGIN:VEVENT
DTSTART;TZID=Asia/Tokyo:20260127T140000
DTEND;TZID=Asia/Tokyo:20260127T153000
DTSTAMP:20260424T185310
CREATED:20260121T013401Z
LAST-MODIFIED:20260121T013401Z
UID:22835-1769522400-1769527800@kikuchikanko.ne.jp
SUMMARY:第10回ハイスクールフェスティバルin菊池
DESCRIPTION:市内３高校（菊池高校・菊池農業高校・菊池女子高校）が「第10回ハイスクールフェステ\nィバルin菊池」を開催します。 \nこの取り組みは、市内３高校の魅力をPRするとともに、地元\n高校の特色や高校生の元気あふれる活動を広く市民の皆さんに伝え、地域活性化につなげる\nことを目的としたものです。 \nまた、市内中学生にも地元高校の取り組みを知ってもらい、相\n互に交流を図れるよう、市内５つの中学校の２年生を招待して行います。 \n１．日時 １月27日（火）午後２時～３時40分（午後１時30分から開場・受付）\n２．場所 泗水ホール（菊池市泗水町福本283-1）\n３．主催 菊池市３高校魅力化実行委員会\n（事務局：市教育委員会学校教育課）\n４．スケジュール\n午後２時 開会\n午後２時 菊池高校（学校紹介（DXハイスクールの取組など）、書道パフォーマン\nス）\n午後２時35分 菊池女子高校（学校紹介、着物着付け、ファッションショー、ダンス）\n午後３時10分 菊池農業高校（学校紹介、太鼓演奏、グローバルチャレンジ事業発表）\n午後３時40分 閉会
URL:https://kikuchikanko.ne.jp/event/%e7%ac%ac10%e5%9b%9e%e3%83%8f%e3%82%a4%e3%82%b9%e3%82%af%e3%83%bc%e3%83%ab%e3%83%95%e3%82%a7%e3%82%b9%e3%83%86%e3%82%a3%e3%83%90%e3%83%abin%e8%8f%8a%e6%b1%a0
LOCATION:泗水ホール
END:VEVENT
BEGIN:VEVENT
DTSTART;TZID=Asia/Tokyo:20260128T100000
DTEND;TZID=Asia/Tokyo:20260128T140000
DTSTAMP:20260424T185310
CREATED:20251214T031115Z
LAST-MODIFIED:20251214T031115Z
UID:22564-1769594400-1769608800@kikuchikanko.ne.jp
SUMMARY:ひとしずく朝市
DESCRIPTION:毎月8のつく日に開催される「ひとしずく朝市」が今月28日も開催されます。\nひとしずく朝市は、ゴミを出さない朝市を目指されています。 \n日常のお買い物をご自身のお気に入りのバッグや食器で楽しいんでいただいくことがあたりまえの世界になればという想いがたくさん詰まった朝市です。\nお買い物の際にはマイバッグ\nおいしい食べものにはマイカップ、マイ皿、マイ箸\nお持ち帰りにはマイタッパー\nなど、マイ〇〇を持って楽しまれてください。 \n◇会場◇ 菊池市ふるさと創生市民広場\n◇お問合せ･詳細◇ ひとしずく朝市 Instagramより
URL:https://kikuchikanko.ne.jp/event/%e3%81%b2%e3%81%a8%e3%81%97%e3%81%9a%e3%81%8f%e6%9c%9d%e5%b8%82-14
LOCATION:菊池市ふるさと創生市民広場
END:VEVENT
END:VCALENDAR