BEGIN:VCALENDAR
VERSION:2.0
PRODID:-//菊池観光協会 - ECPv6.11.2//NONSGML v1.0//EN
CALSCALE:GREGORIAN
METHOD:PUBLISH
X-WR-CALNAME:菊池観光協会
X-ORIGINAL-URL:https://kikuchikanko.ne.jp
X-WR-CALDESC:菊池観光協会 のイベント
REFRESH-INTERVAL;VALUE=DURATION:PT1H
X-Robots-Tag:noindex
X-PUBLISHED-TTL:PT1H
BEGIN:VTIMEZONE
TZID:Asia/Tokyo
BEGIN:STANDARD
TZOFFSETFROM:+0900
TZOFFSETTO:+0900
TZNAME:JST
DTSTART:20240101T000000
END:STANDARD
END:VTIMEZONE
BEGIN:VEVENT
DTSTART;TZID=Asia/Tokyo:20240715T180000
DTEND;TZID=Asia/Tokyo:20240715T210000
DTSTAMP:20260423T182812
CREATED:20240706T040749Z
LAST-MODIFIED:20240708T014443Z
UID:18356-1721066400-1721077200@kikuchikanko.ne.jp
SUMMARY:菊池神社なつまつり
DESCRIPTION:
URL:https://kikuchikanko.ne.jp/event/%e8%8f%8a%e6%b1%a0%e7%a5%9e%e7%a4%be%e3%81%aa%e3%81%a4%e3%81%be%e3%81%a4%e3%82%8a
LOCATION:菊池神社
ATTACH;FMTTYPE=image/jpeg:https://kikuchikanko.ne.jp/wp-content/uploads/2024/07/faf330517b2e23f2289befb69e9ff79b.jpg
END:VEVENT
BEGIN:VEVENT
DTSTART;TZID=Asia/Tokyo:20240714T100000
DTEND;TZID=Asia/Tokyo:20240714T150000
DTSTAMP:20260423T182812
CREATED:20240706T030607Z
LAST-MODIFIED:20240711T085556Z
UID:18347-1720951200-1720969200@kikuchikanko.ne.jp
SUMMARY:水遊びマルシェ
DESCRIPTION:今年もあのじゃぶじゃぶ池が登場するのか・・・！？\n\n飲食や雑貨、ワークショップなど子どもから大人まで楽しめるマルシェ♪
URL:https://kikuchikanko.ne.jp/event/%e6%b0%b4%e9%81%8a%e3%81%b3%e3%83%9e%e3%83%ab%e3%82%b7%e3%82%a7
LOCATION:ＬＡＴＯ  ＢＡＳＥ\, 菊池市泗水町吉富2714-3
ATTACH;FMTTYPE=image/jpeg:https://kikuchikanko.ne.jp/wp-content/uploads/2024/07/7.14lato.jpg
END:VEVENT
BEGIN:VEVENT
DTSTART;TZID=Asia/Tokyo:20240713T100000
DTEND;TZID=Asia/Tokyo:20240715T160000
DTSTAMP:20260423T182812
CREATED:20240703T023222Z
LAST-MODIFIED:20240708T022317Z
UID:18221-1720864800-1721059200@kikuchikanko.ne.jp
SUMMARY:WATER ADVENTURE FESTIVAL in きくち
DESCRIPTION:菊池渓谷から始まる冒険
URL:https://kikuchikanko.ne.jp/event/water-adventure-festival-in-%e3%81%8d%e3%81%8f%e3%81%a1
ATTACH;FMTTYPE=image/png:https://kikuchikanko.ne.jp/wp-content/uploads/2023/04/fdceab1767bf24b6d76f2b8c529ff884.png
END:VEVENT
BEGIN:VEVENT
DTSTART;TZID=Asia/Tokyo:20240701T090000
DTEND;TZID=Asia/Tokyo:20240701T180000
DTSTAMP:20260423T182812
CREATED:20240708T021047Z
LAST-MODIFIED:20240708T050826Z
UID:18384-1719824400-1719856800@kikuchikanko.ne.jp
SUMMARY:コッコファーム【カレーフェア】7/1～7/31まで開催！
DESCRIPTION:コッコファームたまご庵レストラン\n「レストラン カレーフェア」\n■ 開催期間:2024年7月1日(月)～7月31日(水)\n■ 営業時間:11:00～平日14:30/土日祝15:30\n＜対象メニュー＞\n● 夏野菜のオムキーマカレー\n● 赤黒スパイシーカレー(温玉付)\n● オリジナルカツカレー\n● オリジナルカレー温玉付 \n\nパン・バームクーヘン工房\nCocco-farm Factory C⁺　『カレーフェア』\n■ 開催期間：2024年7月1日(月)～7月31日(水)\n■ 営業時間: 9:30～17:30\n＜対象メニュー＞\n● 夏野菜のナンカレーパン\n● ホットドッグチーズカレー\n● ホットドッグスパイシーカレー\n● とろ～りチーズのキーマカレーパン\n● 揚げサンド キーマカレー\n● 揚げサンド クリームブリュレ\n● 鶏たまカレーパン\n● ごろっと野菜の揚げカレーパン \n\n2024.  7/1（月）～8/31（土）\n菓子工房『ゼリーフェア』\n・レモンゼリー・フルーツゼリー・あじさいゼリー\n・桃杏仁ゼリー・コーヒーゼリー\n各種1個　380円\n5個セットお買い上げでお得に!   通常1\,900円→1\,600円\n個性豊かな5種類のゼリーが菓子工房に登場。\n季節のフルーツなどこだわりの材料を使い、パティシエが丹精込めて手作りしています。\n涼しげな見た目が夏にピッタリ！お土産にもおすすめです。\nぜひこの機会に菓子工房にお立ち寄りください。
URL:https://kikuchikanko.ne.jp/event/%e3%82%b3%e3%83%83%e3%82%b3%e3%83%95%e3%82%a1%e3%83%bc%e3%83%a0%e3%80%90%e3%82%ab%e3%83%ac%e3%83%bc%e3%83%95%e3%82%a7%e3%82%a2%e3%80%91
LOCATION:コッコファーム\, 1077\, 菊池市森北
END:VEVENT
BEGIN:VEVENT
DTSTART;VALUE=DATE:20240615
DTEND;VALUE=DATE:20240617
DTSTAMP:20260423T182812
CREATED:20240525T052823Z
LAST-MODIFIED:20240525T063415Z
UID:18136-1718409600-1718582399@kikuchikanko.ne.jp
SUMMARY:メロン収穫体験
DESCRIPTION:【メロン収穫大作戦 in 七城メロンドーム】 \n開催日：１５日(土)　１６日(日) \n時間：１０：００～１２：００ \n内容：メロン収穫体験・メロンの試食や生産者さんからのお話など \n菊池の名産品の一つ”肥後グリーンメロン”　鮮やかなグリーン色の果肉をした大きなメロン🍈 \n七城メロンドームと菊池観光協会の共同企画として貴重なメロン収穫体験を企画しました！ \n菊池の食の魅力であるメロンを存分にお楽しみください♪ \nご予約は菊池観光協会HPより→　https://kikuchikanko.ne.jp/taikenplan \nお問い合わせ：菊池観光協会　0968-25-0513（火曜日除く）
URL:https://kikuchikanko.ne.jp/event/%e3%83%a1%e3%83%ad%e3%83%b3%e5%8f%8e%e7%a9%ab%e4%bd%93%e9%a8%93
LOCATION:メロンドーム
ATTACH;FMTTYPE=image/jpeg:https://kikuchikanko.ne.jp/wp-content/uploads/2024/04/view_image-1.jpg
END:VEVENT
BEGIN:VEVENT
DTSTART;TZID=Asia/Tokyo:20240609T080000
DTEND;TZID=Asia/Tokyo:20240609T160000
DTSTAMP:20260423T182812
CREATED:20240525T052945Z
LAST-MODIFIED:20240525T052945Z
UID:18138-1717920000-1717948800@kikuchikanko.ne.jp
SUMMARY:廣現寺マルシェ
DESCRIPTION:天井龍が見れるお寺廣現寺で【廣現寺マルシェ】開催 \n \n６月９日(日)　１１：００～１６：００　◆雨天時は天井龍拝観のみ　◆入場無料 \n会場：廣現寺(境内一帯)　菊池市隈府１７１８ \nお問い合わせ：090-3191-4391(ホルモン道場 梅田) \n \n 
URL:https://kikuchikanko.ne.jp/event/%e5%bb%a3%e7%8f%be%e5%af%ba%e3%83%9e%e3%83%ab%e3%82%b7%e3%82%a7
ATTACH;FMTTYPE=image/jpeg:https://kikuchikanko.ne.jp/wp-content/uploads/2024/04/boukun_600-400_14.jpg
END:VEVENT
END:VCALENDAR